BEGIN:VCALENDAR
VERSION:2.0
PRODID:-//Yuzuko Horigome - ECPv6.2.2//NONSGML v1.0//EN
CALSCALE:GREGORIAN
METHOD:PUBLISH
X-WR-CALNAME:Yuzuko Horigome
X-ORIGINAL-URL:https://yuzukohorigome.com
X-WR-CALDESC:Events for Yuzuko Horigome
REFRESH-INTERVAL;VALUE=DURATION:PT1H
X-Robots-Tag:noindex
X-PUBLISHED-TTL:PT1H
BEGIN:VTIMEZONE
TZID:Asia/Tokyo
BEGIN:STANDARD
TZOFFSETFROM:+0900
TZOFFSETTO:+0900
TZNAME:JST
DTSTART:20200101T000000
END:STANDARD
TZID:Europe/Rome
BEGIN:DAYLIGHT
TZOFFSETFROM:+0100
TZOFFSETTO:+0200
TZNAME:CEST
DTSTART:20210328T010000
END:DAYLIGHT
BEGIN:STANDARD
TZOFFSETFROM:+0200
TZOFFSETTO:+0100
TZNAME:CET
DTSTART:20211031T010000
END:STANDARD
TZID:Europe/Paris
BEGIN:DAYLIGHT
TZOFFSETFROM:+0100
TZOFFSETTO:+0200
TZNAME:CEST
DTSTART:20220327T010000
END:DAYLIGHT
BEGIN:STANDARD
TZOFFSETFROM:+0200
TZOFFSETTO:+0100
TZNAME:CET
DTSTART:20221030T010000
END:STANDARD
BEGIN:DAYLIGHT
TZOFFSETFROM:+0100
TZOFFSETTO:+0200
TZNAME:CEST
DTSTART:20230326T010000
END:DAYLIGHT
BEGIN:STANDARD
TZOFFSETFROM:+0200
TZOFFSETTO:+0100
TZNAME:CET
DTSTART:20231029T010000
END:STANDARD
TZID:Europe/Berlin
BEGIN:DAYLIGHT
TZOFFSETFROM:+0100
TZOFFSETTO:+0200
TZNAME:CEST
DTSTART:20230326T010000
END:DAYLIGHT
BEGIN:STANDARD
TZOFFSETFROM:+0200
TZOFFSETTO:+0100
TZNAME:CET
DTSTART:20231029T010000
END:STANDARD
END:VTIMEZONE
BEGIN:VEVENT
DTSTART;TZID=Asia/Tokyo:20201107T140000
DTEND;TZID=Asia/Tokyo:20201107T170000
DTSTAMP:20260421T064331
CREATED:20200722T210613Z
LAST-MODIFIED:20200722T212744Z
UID:18809-1604757600-1604768400@yuzukohorigome.com
SUMMARY:Hyogo Prefectural Arts Center KOBELCO Great Hall
DESCRIPTION:
URL:https://yuzukohorigome.com/classes/hyogo-prefectural-arts-center-kobelco-great-hall/
CATEGORIES:Event
ATTACH;FMTTYPE=image/jpeg:https://yuzukohorigome.com/wp-content/uploads/2020/07/kobelco.jpg
END:VEVENT
BEGIN:VEVENT
DTSTART;TZID=Asia/Tokyo:20201111T190000
DTEND;TZID=Asia/Tokyo:20201111T210000
DTSTAMP:20260421T064331
CREATED:20200722T210828Z
LAST-MODIFIED:20200825T110004Z
UID:18814-1605121200-1605128400@yuzukohorigome.com
SUMMARY:Suntory Hall Tokyo
DESCRIPTION:
URL:https://yuzukohorigome.com/classes/suntory-hall/
CATEGORIES:Event
ATTACH;FMTTYPE=image/gif:https://yuzukohorigome.com/wp-content/uploads/2020/07/i_horigome20_flier_web-1.gif
END:VEVENT
BEGIN:VEVENT
DTSTART;TZID=Asia/Tokyo:20201119T190000
DTEND;TZID=Asia/Tokyo:20201119T213000
DTSTAMP:20260421T064331
CREATED:20200722T211111Z
LAST-MODIFIED:20200722T212306Z
UID:18820-1605812400-1605821400@yuzukohorigome.com
SUMMARY:The Symphony Hall Osaka
DESCRIPTION:The Symphony Hall
URL:https://yuzukohorigome.com/classes/the-symphony-hall-osaka/
CATEGORIES:Event
ATTACH;FMTTYPE=image/jpeg:https://yuzukohorigome.com/wp-content/uploads/2020/07/osaka.jpeg
END:VEVENT
BEGIN:VEVENT
DTSTART;TZID=Asia/Tokyo:20210515T133000
DTEND;TZID=Asia/Tokyo:20210515T170000
DTSTAMP:20260421T064331
CREATED:20210404T101157Z
LAST-MODIFIED:20210404T102155Z
UID:18881-1621085400-1621098000@yuzukohorigome.com
SUMMARY:Bruch's scotish fantasy with the orchestra Yomiuri and conductor Ebihara @Kuwana
DESCRIPTION:【日時】\n 2021年5月15日（土）13時30分開演予定\n\n\n【会場】\n NTNシティホール　大ホール\n\n\n【招待】\n 抽選で300席（予定）\n\n\n【内容】\n ヴァイオリンに世界一流のオーケストラ、指揮者との共演を重ねている大御所の\n堀米ゆず子を迎え、ブルッフの協奏曲をお届けします。\n\n\n\n ※応募は三重県在住の方に限らせて頂きます。\n\n\n\n[Date and time] Scheduled to start at 13:30 on Saturday\, May 15\, 2021\n[Venue] NTN City Hall Large Hall\n[Invitation] 300 seats by lottery (planned)\n[Details] A violin\, a world-class orchestra\, Yomiuri\, and a major figure who has been co-starring with a conductor\, Ebihara.\nWe will welcome Yuzuko Horigome and deliver Bruch’s concerto.\n* Applications are limited to those who live in Mie Prefecture.
URL:https://yuzukohorigome.com/classes/ntn-city-hall-large-hall/
CATEGORIES:Event
ATTACH;FMTTYPE=image/png:https://yuzukohorigome.com/wp-content/uploads/2021/04/okzhbz.png
END:VEVENT
BEGIN:VEVENT
DTSTART;TZID=Asia/Tokyo:20210522T080000
DTEND;TZID=Asia/Tokyo:20210522T150000
DTSTAMP:20260421T064331
CREATED:20200902T134952Z
LAST-MODIFIED:20200902T135000Z
UID:18852-1621670400-1621695600@yuzukohorigome.com
SUMMARY:JS Bach @Yamagata
DESCRIPTION:
URL:https://yuzukohorigome.com/classes/js-bach-yamagata/
CATEGORIES:Event
ATTACH;FMTTYPE=image/gif:https://yuzukohorigome.com/wp-content/uploads/2020/09/【延期】堀米ゆず子2020チラシ.gif
END:VEVENT
BEGIN:VEVENT
DTSTART;TZID=Europe/Rome:20210816T080000
DTEND;TZID=Europe/Rome:20210821T170000
DTSTAMP:20260421T064331
CREATED:20210414T103335Z
LAST-MODIFIED:20210414T103335Z
UID:18901-1629100800-1629565200@yuzukohorigome.com
SUMMARY:Masterclass LIVE @Italy
DESCRIPTION:
URL:https://yuzukohorigome.com/classes/masterclass-live-italy/
CATEGORIES:Event
ATTACH;FMTTYPE=image/jpeg:https://yuzukohorigome.com/wp-content/uploads/2021/04/Yuzuko-Horigome.jpeg
END:VEVENT
BEGIN:VEVENT
DTSTART;TZID=Europe/Paris:20220310T190000
DTEND;TZID=Europe/Paris:20220310T220000
DTSTAMP:20260421T064331
CREATED:20220301T085953Z
LAST-MODIFIED:20220301T090145Z
UID:18996-1646938800-1646949600@yuzukohorigome.com
SUMMARY:Fukko Concert 10th edition
DESCRIPTION:Dear Music lovers\,\n\n\n\n\nWe are happy to announce the 10th edition of the Fukko Concert! But this time\, we would like to bring our deepest support to the young music world. Especially music students who continue to strongly believe in their dreams but haven’t had the chance to play enough on stage during this pandemic.\n\n\n\n\nFukko Concert organises a violin concert\, played by students from Yuzuko Horigome’s violin class. They will be playing a repertoire for violin music ( Bach\, Prokofiev\, Tchaikovsky\, Bruch\, Beethoven\,…) at the Royal Conservatory of Brussels on the 10th of March 2022 at 7pm.\n\n\nMusic remains an essential power to heal\, without borders. Support and hope are more than needed to encourage the next generation in classical music.\n\n\n\n\nWe hope to see you there for this FREE CONCERT (no entrance fee\, everybody is welcome)\n\n\n\n\nDATE : 10/03/2022 at 7pm\n\n\n\n\nLOCATION : Koninklijk Conservatorium Brussel\, Regentschapsstraat 30\, 1000 Brussel\n\n\n\n\nMUSICIANS :\nYuzuko Horigome\nLuc Devos\nMikayel Aghjanyan\nIan Ji\nZoltan Kovacs\nRyo Kojima\nFeodor Ludevig\nChihiro Kitada\nMateusz Kolasinsk
URL:https://yuzukohorigome.com/classes/fukko-concert-10th-edition/
CATEGORIES:Event
ATTACH;FMTTYPE=image/png:https://yuzukohorigome.com/wp-content/uploads/2022/03/fukko-2022.png
END:VEVENT
BEGIN:VEVENT
DTSTART;TZID=Asia/Tokyo:20220514T150000
DTEND;TZID=Asia/Tokyo:20220514T170000
DTSTAMP:20260421T064331
CREATED:20220126T124504Z
LAST-MODIFIED:20220126T124700Z
UID:18914-1652540400-1652547600@yuzukohorigome.com
SUMMARY:Violin Recital @Takasaki city Theatre
DESCRIPTION:
URL:https://yuzukohorigome.com/classes/violin-recital-takasaki-city-theatre/
CATEGORIES:Event
ATTACH;FMTTYPE=image/jpeg:https://yuzukohorigome.com/wp-content/uploads/2022/01/1910_02.jpg
END:VEVENT
BEGIN:VEVENT
DTSTART;TZID=Asia/Tokyo:20220515T153000
DTEND;TZID=Asia/Tokyo:20220515T180000
DTSTAMP:20260421T064331
CREATED:20220130T113702Z
LAST-MODIFIED:20220130T113702Z
UID:18934-1652628600-1652637600@yuzukohorigome.com
SUMMARY:Violin recital with H. Kato @Tosoh Arena Yamagata
DESCRIPTION:
URL:https://yuzukohorigome.com/classes/violin-recital-with-h-kato-tosoh-arena-yamagata/
CATEGORIES:Event
ATTACH;FMTTYPE=image/jpeg:https://yuzukohorigome.com/wp-content/uploads/2022/01/tosoh-arena-horigome.jpg
END:VEVENT
BEGIN:VEVENT
DTSTART;VALUE=DATE:20220521
DTEND;VALUE=DATE:20220606
DTSTAMP:20260421T064331
CREATED:20220130T113908Z
LAST-MODIFIED:20220130T113908Z
UID:18941-1653091200-1654473599@yuzukohorigome.com
SUMMARY:Sendai International Music Competition
DESCRIPTION:
URL:https://yuzukohorigome.com/classes/sendai-international-music-competition-2/
CATEGORIES:Event
ATTACH;FMTTYPE=image/png:https://yuzukohorigome.com/wp-content/uploads/2022/01/sendai-music-competition.png
END:VEVENT
BEGIN:VEVENT
DTSTART;TZID=Europe/Paris:20220626T190000
DTEND;TZID=Europe/Paris:20220626T220000
DTSTAMP:20260421T064331
CREATED:20220507T145158Z
LAST-MODIFIED:20220620T160917Z
UID:19395-1656270000-1656280800@yuzukohorigome.com
SUMMARY:Martha Argerich Festival @Hamburg
DESCRIPTION:WHEN ?26.6.2022 (19:00) \nARTISTS : Renaud Capuçon / Yuzuko Horigome / Akane Sakai / Mauricio Vallina / Martha Argerich \nLOCATION : LAEISZHALLE GROSSER SAAL \nPROGRAM : \n\nJohann Sebastian Bach\nSonate Nr. 3 C-Dur BWV 1005 für Violine solo \nRichard Strauss\nSonate für Violine und Klavier Es-Dur op. 18 \nFranz Liszt\nTotentanz S 525 \nCésar Franck\nSonate für Violine und Klavier A-Dur FWV 8 \n\n\n\nVeranstalter: Symphoniker Hamburg \nMit Unterstützung der Hans-Otto und Engelke Schümann Stiftung
URL:https://yuzukohorigome.com/classes/martha-argerich-festival-hamburg/
CATEGORIES:Event
ATTACH;FMTTYPE=image/png:https://yuzukohorigome.com/wp-content/uploads/2022/05/martha-argerich-festival-yuzuko-horigome-akane-sakai-hamburg-concert.png
END:VEVENT
BEGIN:VEVENT
DTSTART;TZID=Asia/Tokyo:20220719T100000
DTEND;TZID=Asia/Tokyo:20220719T170000
DTSTAMP:20260421T064331
CREATED:20220130T114300Z
LAST-MODIFIED:20220620T160329Z
UID:18948-1658224800-1658250000@yuzukohorigome.com
SUMMARY:Sibelius concerto with maestro Akiyama @Kochi
DESCRIPTION:
URL:https://yuzukohorigome.com/classes/sibelius-concerto-with-maestro-akiyama-kochi/
CATEGORIES:Event
ATTACH;FMTTYPE=image/png:https://yuzukohorigome.com/wp-content/uploads/2022/01/yuzuko-horigome-koukyou_168.png
END:VEVENT
BEGIN:VEVENT
DTSTART;VALUE=DATE:20220815
DTEND;VALUE=DATE:20220821
DTSTAMP:20260421T064331
CREATED:20220130T114620Z
LAST-MODIFIED:20220130T114620Z
UID:18952-1660521600-1661039999@yuzukohorigome.com
SUMMARY:Masterclass @Brescia Italy
DESCRIPTION:
URL:https://yuzukohorigome.com/classes/masterclass-brescia-italy/
CATEGORIES:Event
ATTACH;FMTTYPE=image/jpeg:https://yuzukohorigome.com/wp-content/uploads/2022/01/Horigome-Yuzuko-talent.jpeg
END:VEVENT
BEGIN:VEVENT
DTSTART;TZID=Europe/Paris:20221027T080000
DTEND;TZID=Europe/Paris:20221104T170000
DTSTAMP:20260421T064331
CREATED:20221016T182831Z
LAST-MODIFIED:20221016T182831Z
UID:19497-1666857600-1667581200@yuzukohorigome.com
SUMMARY:International LOUIS SPOHR Competition for Young Violinists
DESCRIPTION:
URL:https://yuzukohorigome.com/classes/international-louis-spohr-competition-for-young-violinists/
CATEGORIES:Event
ATTACH;FMTTYPE=image/jpeg:https://yuzukohorigome.com/wp-content/uploads/2022/10/Jury-weimar-sphor-horigome.jpg
END:VEVENT
BEGIN:VEVENT
DTSTART;TZID=Asia/Tokyo:20221124T184500
DTEND;TZID=Asia/Tokyo:20221124T200000
DTSTAMP:20260421T064331
CREATED:20221016T175237Z
LAST-MODIFIED:20221016T175237Z
UID:19441-1669315500-1669320000@yuzukohorigome.com
SUMMARY:Mendelsshon concerto @Nagoya
DESCRIPTION:
URL:https://yuzukohorigome.com/classes/mendelsshon-concerto-nagoya/
CATEGORIES:Event
ATTACH;FMTTYPE=image/jpeg:https://yuzukohorigome.com/wp-content/uploads/2022/10/yuzuko-horigome.jpg
END:VEVENT
BEGIN:VEVENT
DTSTART;TZID=Asia/Tokyo:20221125T190000
DTEND;TZID=Asia/Tokyo:20221125T210000
DTSTAMP:20260421T064331
CREATED:20221016T175518Z
LAST-MODIFIED:20221016T181408Z
UID:19448-1669402800-1669410000@yuzukohorigome.com
SUMMARY:Recital Bach Schubert Brahms with Valery Afanassiev @Wakayama
DESCRIPTION:Recital Bach Schubert Brahms with Valery Afanasief @Wakayama
URL:https://yuzukohorigome.com/classes/recital-bach-schubert-brahms-with-valery-afanasief-wakayama/
CATEGORIES:Event
ATTACH;FMTTYPE=image/jpeg:https://yuzukohorigome.com/wp-content/uploads/2022/10/wakayama-yuzuko-horigome-afanassiev.jpg
END:VEVENT
BEGIN:VEVENT
DTSTART;TZID=Asia/Tokyo:20221201T190000
DTEND;TZID=Asia/Tokyo:20221201T200000
DTSTAMP:20260421T064331
CREATED:20221016T175826Z
LAST-MODIFIED:20221016T175826Z
UID:19453-1669921200-1669924800@yuzukohorigome.com
SUMMARY:Recital Bach Schubert Brahms with Valery Afanassiev @Fukuoka
DESCRIPTION:
URL:https://yuzukohorigome.com/classes/recital-bach-schubert-brahms-with-valery-afanassiev-fukuoka/
CATEGORIES:Event
ATTACH;FMTTYPE=image/jpeg:https://yuzukohorigome.com/wp-content/uploads/2022/10/yuzuko-horigome-afanassiev.jpg
END:VEVENT
BEGIN:VEVENT
DTSTART;TZID=Asia/Tokyo:20221204T140000
DTEND;TZID=Asia/Tokyo:20221204T170000
DTSTAMP:20260421T064331
CREATED:20221016T180428Z
LAST-MODIFIED:20221016T180428Z
UID:19469-1670162400-1670173200@yuzukohorigome.com
SUMMARY:Recital Bach Schubert Brahms with Valery Afanassiev @Kobe
DESCRIPTION:Program: \n\nBach solo sonata n°3 BWV 1005\nBach solo partita n°3 BWV 1006\nSchubert grand duo D574\nBrahms violin sonata n°1 Opus 78
URL:https://yuzukohorigome.com/classes/recital-bach-schubert-brahms-with-valery-afanassiev-kobe/
CATEGORIES:Event
ATTACH;FMTTYPE=image/jpeg:https://yuzukohorigome.com/wp-content/uploads/2022/10/20221204_horigome-1.jpg
END:VEVENT
BEGIN:VEVENT
DTSTART;TZID=Asia/Tokyo:20221206T190000
DTEND;TZID=Asia/Tokyo:20221206T200000
DTSTAMP:20260421T064331
CREATED:20221016T180809Z
LAST-MODIFIED:20221016T180809Z
UID:19477-1670353200-1670356800@yuzukohorigome.com
SUMMARY:Recital Bach Schubert Brahms with Valery Afanassiev @Tokyo Suntory Hall
DESCRIPTION:Tokyo Suntory Hall \nwith Valery Afanassiev \nProgram: \n\nBach solo sonata n°3 BWV 1005\nBach solo partita n°3 BWV 1006\nSchubert grand duo D574\nBrahms violin sonata n°1 Opus 78
URL:https://yuzukohorigome.com/classes/recital-bach-schubert-brahms-with-valery-afanassiev-tokyo-suntory-hall/
CATEGORIES:Event
ATTACH;FMTTYPE=image/jpeg:https://yuzukohorigome.com/wp-content/uploads/2022/10/i_horigome_afanassiev22_flier_web-1.jpg
END:VEVENT
BEGIN:VEVENT
DTSTART;TZID=Asia/Tokyo:20221210T133000
DTEND;TZID=Asia/Tokyo:20221210T150000
DTSTAMP:20260421T064331
CREATED:20221016T181019Z
LAST-MODIFIED:20221016T181019Z
UID:19484-1670679000-1670684400@yuzukohorigome.com
SUMMARY:Recital Bach Schubert Brahms with Valery Afanassiev @Kawasaki
DESCRIPTION:
URL:https://yuzukohorigome.com/classes/recital-bach-schubert-brahms-with-valery-afanassiev-kawasaki/
CATEGORIES:Event
ATTACH;FMTTYPE=image/jpeg:https://yuzukohorigome.com/wp-content/uploads/2022/10/yuzuko-horigome-valery-afanassiev.jpg
END:VEVENT
BEGIN:VEVENT
DTSTART;VALUE=DATE:20230311
DTEND;VALUE=DATE:20230312
DTSTAMP:20260421T064331
CREATED:20230207T134735Z
LAST-MODIFIED:20230207T134735Z
UID:19528-1678492800-1678579199@yuzukohorigome.com
SUMMARY:Mozart & Brahms @Tokyo with Tokyo Mitaka Philharmonia
DESCRIPTION:
URL:https://yuzukohorigome.com/classes/mozart-brahms-tokyo-with-tokyo-mitaka-philharmonia/
CATEGORIES:Event
ATTACH;FMTTYPE=image/png:https://yuzukohorigome.com/wp-content/uploads/2023/02/三鷹フィルチラシデータ-1-1.png
END:VEVENT
BEGIN:VEVENT
DTSTART;TZID=Asia/Tokyo:20230610T170000
DTEND;TZID=Asia/Tokyo:20230610T170000
DTSTAMP:20260421T064331
CREATED:20230508T082334Z
LAST-MODIFIED:20230508T082334Z
UID:19541-1686416400-1686416400@yuzukohorigome.com
SUMMARY:Piano Trio@Kamaishi
DESCRIPTION:
URL:https://yuzukohorigome.com/classes/piano-triokamaishi/
CATEGORIES:Event
ATTACH;FMTTYPE=image/jpeg:https://yuzukohorigome.com/wp-content/uploads/2023/05/2023horigome_kamaishi_web.jpg
END:VEVENT
BEGIN:VEVENT
DTSTART;TZID=Asia/Tokyo:20230611T133000
DTEND;TZID=Asia/Tokyo:20230611T143000
DTSTAMP:20260421T064331
CREATED:20230508T082537Z
LAST-MODIFIED:20230508T082537Z
UID:19548-1686490200-1686493800@yuzukohorigome.com
SUMMARY:Piano trio @Kitakami
DESCRIPTION:
URL:https://yuzukohorigome.com/classes/piano-trio-kitakami/
CATEGORIES:Event
ATTACH;FMTTYPE=image/jpeg:https://yuzukohorigome.com/wp-content/uploads/2023/05/pianotrioomote-1085x1536-1.jpg
END:VEVENT
BEGIN:VEVENT
DTSTART;TZID=Asia/Tokyo:20230618T143000
DTEND;TZID=Asia/Tokyo:20230618T170000
DTSTAMP:20260421T064331
CREATED:20230508T082747Z
LAST-MODIFIED:20230508T082747Z
UID:19555-1687098600-1687107600@yuzukohorigome.com
SUMMARY:Tchaïkovsky\, Sibelius @Shizuoka
DESCRIPTION:
URL:https://yuzukohorigome.com/classes/tchaikovsky-sibelius-shizuoka/
CATEGORIES:Event
ATTACH;FMTTYPE=image/jpeg:https://yuzukohorigome.com/wp-content/uploads/2023/05/s20089_1.jpg
END:VEVENT
BEGIN:VEVENT
DTSTART;TZID=Europe/Berlin:20230625T180000
DTEND;TZID=Europe/Berlin:20230625T180000
DTSTAMP:20260421T064331
CREATED:20230508T083206Z
LAST-MODIFIED:20230508T083206Z
UID:19562-1687716000-1687716000@yuzukohorigome.com
SUMMARY:Martha Argerich Festival 2023 @Hamburg
DESCRIPTION:
URL:https://yuzukohorigome.com/classes/martha-argerich-festival-2023-hamburg/
CATEGORIES:Event
ATTACH;FMTTYPE=image/jpeg:https://yuzukohorigome.com/wp-content/uploads/2023/05/Martha-Argerich-Yuzuko-Horigome-1.jpg
END:VEVENT
BEGIN:VEVENT
DTSTART;TZID=Asia/Tokyo:20230708T140000
DTEND;TZID=Asia/Tokyo:20230708T170000
DTSTAMP:20260421T064331
CREATED:20230508T083457Z
LAST-MODIFIED:20230508T083457Z
UID:19572-1688824800-1688835600@yuzukohorigome.com
SUMMARY:Bach\, Schubert @Yokohama (Sold out)
DESCRIPTION:
URL:https://yuzukohorigome.com/classes/bach-schubert-yokohama-sold-out/
CATEGORIES:Event
ATTACH;FMTTYPE=image/jpeg:https://yuzukohorigome.com/wp-content/uploads/2023/05/himawarinosato-Concert-Series-Spring-2023_omote-1086x1536-1.jpg
END:VEVENT
BEGIN:VEVENT
DTSTART;TZID=Europe/Paris:20230709T150000
DTEND;TZID=Europe/Paris:20230709T170000
DTSTAMP:20260421T064331
CREATED:20230508T083702Z
LAST-MODIFIED:20230508T083702Z
UID:19579-1688914800-1688922000@yuzukohorigome.com
SUMMARY:Chamber music @Yamagata
DESCRIPTION:
URL:https://yuzukohorigome.com/classes/chamber-music-yamagata/
CATEGORIES:Event
ATTACH;FMTTYPE=image/jpeg:https://yuzukohorigome.com/wp-content/uploads/2023/05/19044608313bb74cfebb3e6148495903-1.jpg
END:VEVENT
BEGIN:VEVENT
DTSTART;TZID=Asia/Tokyo:20230710T180000
DTEND;TZID=Asia/Tokyo:20230710T180000
DTSTAMP:20260421T064331
CREATED:20230510T095604Z
LAST-MODIFIED:20230510T095805Z
UID:19600-1689012000-1689012000@yuzukohorigome.com
SUMMARY:Chamber Music @Yamagata
DESCRIPTION:
URL:https://yuzukohorigome.com/classes/chamber-music-yamagata-2/
CATEGORIES:Event
ATTACH;FMTTYPE=image/png:https://yuzukohorigome.com/wp-content/uploads/2023/05/yamagata-benibana-web.png
END:VEVENT
BEGIN:VEVENT
DTSTART;TZID=Europe/Paris:20230715T143000
DTEND;TZID=Europe/Paris:20230715T170000
DTSTAMP:20260421T064331
CREATED:20230508T084433Z
LAST-MODIFIED:20230508T084548Z
UID:19589-1689431400-1689440400@yuzukohorigome.com
SUMMARY:Brahms\, Schoenberg @Nagoya
DESCRIPTION:
URL:https://yuzukohorigome.com/classes/brahms-schoenberg-nagoya/
CATEGORIES:Event
ATTACH;FMTTYPE=image/png:https://yuzukohorigome.com/wp-content/uploads/2023/05/yuzuko-horigome-nagoya.png
END:VEVENT
BEGIN:VEVENT
DTSTART;TZID=Europe/Paris:20230814T080000
DTEND;TZID=Europe/Paris:20230819T170000
DTSTAMP:20260421T064331
CREATED:20230207T134251Z
LAST-MODIFIED:20230207T134251Z
UID:19521-1692000000-1692464400@yuzukohorigome.com
SUMMARY:Talent Music Summer Courses @ Brescia - Italy
DESCRIPTION:
URL:https://yuzukohorigome.com/classes/talent-music-summer-courses-brescia-italy/
CATEGORIES:Event
ATTACH;FMTTYPE=image/jpeg:https://yuzukohorigome.com/wp-content/uploads/2023/02/Brescia-2023-Yuzuko-Horigome.jpeg
END:VEVENT
END:VCALENDAR