BEGIN:VCALENDAR
VERSION:2.0
PRODID:-//Yuzuko Horigome - ECPv6.2.2//NONSGML v1.0//EN
CALSCALE:GREGORIAN
METHOD:PUBLISH
X-WR-CALNAME:Yuzuko Horigome
X-ORIGINAL-URL:https://yuzukohorigome.com
X-WR-CALDESC:Events for Yuzuko Horigome
REFRESH-INTERVAL;VALUE=DURATION:PT1H
X-Robots-Tag:noindex
X-PUBLISHED-TTL:PT1H
BEGIN:VTIMEZONE
TZID:Asia/Tokyo
BEGIN:STANDARD
TZOFFSETFROM:+0900
TZOFFSETTO:+0900
TZNAME:JST
DTSTART:20200101T000000
END:STANDARD
END:VTIMEZONE
BEGIN:VEVENT
DTSTART;TZID=Asia/Tokyo:20200208T140000
DTEND;TZID=Asia/Tokyo:20200208T170000
DTSTAMP:20260419T213314
CREATED:20200203T093211Z
LAST-MODIFIED:20200203T093339Z
UID:18694-1581170400-1581181200@yuzukohorigome.com
SUMMARY:日本フィル in Kyusyu 2020 鹿児島公演
DESCRIPTION:第45回九州公演 日本フィル in Kyusyu 2020 鹿児島公演\n\n\n発売中 \n\n\n\n\n表示する\n\n\n\n\n\n\n\n開演時間\n\n\n2020年02月08日(土曜日)14時00分\n\n\n開場時間\n\n2020年02月08日(土曜日)13時15分 \n\n会場\n\n\n宝山ホール（鹿児島県文化センター） \n開場時にロビーでウェルカムコンサートを開催します。 \n 
URL:https://yuzukohorigome.com/classes/%e6%97%a5%e6%9c%ac%e3%83%95%e3%82%a3%e3%83%ab-in-kyusyu-2020/
CATEGORIES:Event
ATTACH;FMTTYPE=image/png:https://yuzukohorigome.com/wp-content/uploads/2020/02/yuzuko-horigome-Japan-Philharmonic-Kagoshima.png
END:VEVENT
END:VCALENDAR