BEGIN:VCALENDAR
VERSION:2.0
PRODID:-//Yuzuko Horigome - ECPv6.2.2//NONSGML v1.0//EN
CALSCALE:GREGORIAN
METHOD:PUBLISH
X-ORIGINAL-URL:https://yuzukohorigome.com
X-WR-CALDESC:Events for Yuzuko Horigome
REFRESH-INTERVAL;VALUE=DURATION:PT1H
X-Robots-Tag:noindex
X-PUBLISHED-TTL:PT1H
BEGIN:VTIMEZONE
TZID:Asia/Tokyo
BEGIN:STANDARD
TZOFFSETFROM:+0900
TZOFFSETTO:+0900
TZNAME:JST
DTSTART:20190101T000000
END:STANDARD
END:VTIMEZONE
BEGIN:VEVENT
DTSTART;TZID=Asia/Tokyo:20191014T140000
DTEND;TZID=Asia/Tokyo:20191014T150000
DTSTAMP:20260420T032312
CREATED:20190829T185059Z
LAST-MODIFIED:20190829T185059Z
UID:18315-1571061600-1571065200@yuzukohorigome.com
SUMMARY:プロムナード・コンサート
DESCRIPTION:
URL:https://yuzukohorigome.com/classes/%e3%83%97%e3%83%ad%e3%83%a0%e3%83%8a%e3%83%bc%e3%83%89%e3%83%bb%e3%82%b3%e3%83%b3%e3%82%b5%e3%83%bc%e3%83%88/
CATEGORIES:Event
ATTACH;FMTTYPE=image/jpeg:https://yuzukohorigome.com/wp-content/uploads/2019/08/4310611311_20190426104238.jpg
END:VEVENT
END:VCALENDAR