BEGIN:VCALENDAR
VERSION:2.0
PRODID:-//Yuzuko Horigome - ECPv6.2.2//NONSGML v1.0//EN
CALSCALE:GREGORIAN
METHOD:PUBLISH
X-ORIGINAL-URL:https://yuzukohorigome.com
X-WR-CALDESC:Events for Yuzuko Horigome
REFRESH-INTERVAL;VALUE=DURATION:PT1H
X-Robots-Tag:noindex
X-PUBLISHED-TTL:PT1H
BEGIN:VTIMEZONE
TZID:Asia/Tokyo
BEGIN:STANDARD
TZOFFSETFROM:+0900
TZOFFSETTO:+0900
TZNAME:JST
DTSTART:20190101T000000
END:STANDARD
END:VTIMEZONE
BEGIN:VEVENT
DTSTART;TZID=Asia/Tokyo:20190720T150000
DTEND;TZID=Asia/Tokyo:20190720T170000
DTSTAMP:20260420T075938
CREATED:20190707T101442Z
LAST-MODIFIED:20190713T094730Z
UID:18217-1563634800-1563642000@yuzukohorigome.com
SUMMARY:ヴァイオリンリサイタル\,岸和田
DESCRIPTION:
URL:https://yuzukohorigome.com/classes/%e3%83%b4%e3%82%a1%e3%82%a4%e3%82%aa%e3%83%aa%e3%83%b3%e3%83%aa%e3%82%b5%e3%82%a4%e3%82%bf%e3%83%ab%e5%b2%b8%e5%92%8c%e7%94%b0/
CATEGORIES:Event
ATTACH;FMTTYPE=image/gif:https://yuzukohorigome.com/wp-content/uploads/2019/07/20190720_MukunokiHall.gif
END:VEVENT
END:VCALENDAR