BEGIN:VCALENDAR
VERSION:2.0
PRODID:-//Yuzuko Horigome - ECPv6.2.2//NONSGML v1.0//EN
CALSCALE:GREGORIAN
METHOD:PUBLISH
X-ORIGINAL-URL:https://yuzukohorigome.com
X-WR-CALDESC:Events for Yuzuko Horigome
REFRESH-INTERVAL;VALUE=DURATION:PT1H
X-Robots-Tag:noindex
X-PUBLISHED-TTL:PT1H
BEGIN:VTIMEZONE
TZID:Europe/Paris
BEGIN:DAYLIGHT
TZOFFSETFROM:+0100
TZOFFSETTO:+0200
TZNAME:CEST
DTSTART:20190331T010000
END:DAYLIGHT
BEGIN:STANDARD
TZOFFSETFROM:+0200
TZOFFSETTO:+0100
TZNAME:CET
DTSTART:20191027T010000
END:STANDARD
END:VTIMEZONE
BEGIN:VEVENT
DTSTART;TZID=Europe/Paris:20190707T140000
DTEND;TZID=Europe/Paris:20190707T160000
DTSTAMP:20260420T075939
CREATED:20190425T134421Z
LAST-MODIFIED:20190425T140009Z
UID:18151-1562508000-1562515200@yuzukohorigome.com
SUMMARY:ベートーベンコンチェルト静岡交響楽団
DESCRIPTION:キンボーイシイ、指揮
URL:https://yuzukohorigome.com/classes/%e3%83%99%e3%83%bc%e3%83%88%e3%83%bc%e3%83%99%e3%83%b3%e3%82%b3%e3%83%b3%e3%83%81%e3%82%a7%e3%83%ab%e3%83%88%e9%9d%99%e5%b2%a1%e4%ba%a4%e9%9f%bf%e6%a5%bd%e5%9b%a3/
CATEGORIES:Event
ATTACH;FMTTYPE=image/png:https://yuzukohorigome.com/wp-content/uploads/2019/04/shizuoka-1_web.png
END:VEVENT
END:VCALENDAR