BEGIN:VCALENDAR
VERSION:2.0
PRODID:-//Yuzuko Horigome - ECPv6.2.2//NONSGML v1.0//EN
CALSCALE:GREGORIAN
METHOD:PUBLISH
X-WR-CALNAME:Yuzuko Horigome
X-ORIGINAL-URL:https://yuzukohorigome.com
X-WR-CALDESC:Events for Yuzuko Horigome
REFRESH-INTERVAL;VALUE=DURATION:PT1H
X-Robots-Tag:noindex
X-PUBLISHED-TTL:PT1H
BEGIN:VTIMEZONE
TZID:Asia/Tokyo
BEGIN:STANDARD
TZOFFSETFROM:+0900
TZOFFSETTO:+0900
TZNAME:JST
DTSTART:20190101T000000
END:STANDARD
END:VTIMEZONE
BEGIN:VEVENT
DTSTART;TZID=Asia/Tokyo:20190615T080000
DTEND;TZID=Asia/Tokyo:20190630T170000
DTSTAMP:20260420T092412
CREATED:20190425T133330Z
LAST-MODIFIED:20190425T140045Z
UID:18141-1560585600-1561914000@yuzukohorigome.com
SUMMARY:仙台国際音楽コンクール
DESCRIPTION:仙台国際音楽コンクール審査委員長、３年に一度の若者の挑戦。 \nお見逃しなく！
URL:https://yuzukohorigome.com/classes/%e4%bb%99%e5%8f%b0%e5%9b%bd%e9%9a%9b%e9%9f%b3%e6%a5%bd%e3%82%b3%e3%83%b3%e3%82%af%e3%83%bc%e3%83%ab/
LOCATION:Sendai
CATEGORIES:Event
ATTACH;FMTTYPE=image/png:https://yuzukohorigome.com/wp-content/uploads/2019/04/ogp_en_WEB.png
END:VEVENT
END:VCALENDAR