BEGIN:VCALENDAR
VERSION:2.0
PRODID:-//Yuzuko Horigome - ECPv6.2.2//NONSGML v1.0//EN
CALSCALE:GREGORIAN
METHOD:PUBLISH
X-ORIGINAL-URL:https://yuzukohorigome.com
X-WR-CALDESC:Events for Yuzuko Horigome
REFRESH-INTERVAL;VALUE=DURATION:PT1H
X-Robots-Tag:noindex
X-PUBLISHED-TTL:PT1H
BEGIN:VTIMEZONE
TZID:Asia/Tokyo
BEGIN:STANDARD
TZOFFSETFROM:+0900
TZOFFSETTO:+0900
TZNAME:JST
DTSTART:20190101T000000
END:STANDARD
END:VTIMEZONE
BEGIN:VEVENT
DTSTART;TZID=Asia/Tokyo:20190512T143000
DTEND;TZID=Asia/Tokyo:20190512T170000
DTSTAMP:20260420T092448
CREATED:20190425T130117Z
LAST-MODIFIED:20190425T141032Z
UID:18106-1557671400-1557680400@yuzukohorigome.com
SUMMARY:葉山室内楽協会リサイタル
DESCRIPTION:●葉山 \n2019年5月12日（日）14時30分葉山町福祉文化会館ホール \nモーツァルト：ヴァイオリン・ソナタ第34番 K.378 \nR.シュトラウス：ヴァイオリン・ソナタ　op.18 \nパガニーニ（シューマン）：キャプリス　4番、5番、9番 \nサン＝サーンス：序奏とロンド・カプリチオーソ \nクライスラー：ウィーン奇想曲／美しきロスマリン／愛の悲しみ／愛の喜び
URL:https://yuzukohorigome.com/classes/recital-in-hayama/
LOCATION:Kanagawa\, Kanagawa\, Japan
CATEGORIES:Event
ATTACH;FMTTYPE=image/png:https://yuzukohorigome.com/wp-content/uploads/2019/04/葉山リーフレット_web.png
END:VEVENT
BEGIN:VEVENT
DTSTART;TZID=Asia/Tokyo:20190517T190000
DTEND;TZID=Asia/Tokyo:20190517T210000
DTSTAMP:20260420T092448
CREATED:20190425T131236Z
LAST-MODIFIED:20190520T154740Z
UID:18109-1558119600-1558126800@yuzukohorigome.com
SUMMARY:長崎、美しいモーツアルト共演
DESCRIPTION:大村合奏団との美しいモーツアルト共演 \n５月１７日１９時　長崎市民会館、文化ホール \n５月１８日１４時　シーハットおおむら、さくらホール
URL:https://yuzukohorigome.com/classes/%e5%a4%a7%e6%9d%91%e5%90%88%e5%a5%8f%e5%9b%a3%e3%81%a8%e3%81%ae%e7%be%8e%e3%81%97%e3%81%84%e3%83%a2%e3%83%bc%e3%83%84%e3%82%a2%e3%83%ab%e3%83%88%e5%85%b1%e6%bc%94/
CATEGORIES:Event
ATTACH;FMTTYPE=image/png:https://yuzukohorigome.com/wp-content/uploads/2019/04/Nagasaki-oomura_web.png
END:VEVENT
BEGIN:VEVENT
DTSTART;TZID=Asia/Tokyo:20190518T190000
DTEND;TZID=Asia/Tokyo:20190518T210000
DTSTAMP:20260420T092448
CREATED:20190520T154914Z
LAST-MODIFIED:20190520T155155Z
UID:18205-1558206000-1558213200@yuzukohorigome.com
SUMMARY:大村合奏団との美しいモーツアルト共演
DESCRIPTION:大村合奏団との美しいモーツアルト共演 \n５月１８日１４時　シーハットおおむら、さくらホール
URL:https://yuzukohorigome.com/classes/%e5%a4%a7%e6%9d%91%e5%90%88%e5%a5%8f%e5%9b%a3%e3%81%a8%e3%81%ae%e7%be%8e%e3%81%97%e3%81%84%e3%83%a2%e3%83%bc%e3%83%84%e3%82%a2%e3%83%ab%e3%83%88%e5%85%b1%e6%bc%94-2/
CATEGORIES:Event
ATTACH;FMTTYPE=image/png:https://yuzukohorigome.com/wp-content/uploads/2019/04/Nagasaki-oomura_web.png
END:VEVENT
BEGIN:VEVENT
DTSTART;TZID=Asia/Tokyo:20190521T190000
DTEND;TZID=Asia/Tokyo:20190521T210000
DTSTAMP:20260420T092448
CREATED:20190425T132052Z
LAST-MODIFIED:20190425T140358Z
UID:18132-1558465200-1558472400@yuzukohorigome.com
SUMMARY:和歌山特別弦合奏との共演
DESCRIPTION:●和歌山 \n2019年5月21日（火）19時　和歌山県立図書館メディア・アート・ホール \nモーツァルト：セレナード第13番 ト長調 K525「アイネ・クライネ・ナハトムジーク」                              \nJ.S.バッハ：ヴァイオリン協奏曲 第1番 イ短調 ＢＷＶ1041                                                            \nパガニーニ(シューマン/山中惇史編)：カプリス 第4番、第5番、第9番                                                       \nJ.S.バッハ：2台のヴァイオリンのための協奏曲 ニ短調 BWV1043 
URL:https://yuzukohorigome.com/classes/%e5%92%8c%e6%ad%8c%e5%b1%b1%e7%89%b9%e5%88%a5%e5%bc%a6%e5%90%88%e5%a5%8f%e3%81%a8%e3%81%ae%e5%85%b1%e6%bc%94/
LOCATION:Wakayama
CATEGORIES:Event
ATTACH;FMTTYPE=image/png:https://yuzukohorigome.com/wp-content/uploads/2019/04/wakayama_web.png
END:VEVENT
END:VCALENDAR